BEGIN:VCALENDAR
VERSION:2.0
PRODID:-//Indiana Field Archery Association - ECPv6.15.11//NONSGML v1.0//EN
CALSCALE:GREGORIAN
METHOD:PUBLISH
X-ORIGINAL-URL:https://ifaaarchery.org
X-WR-CALDESC:Events for Indiana Field Archery Association
REFRESH-INTERVAL;VALUE=DURATION:PT1H
X-Robots-Tag:noindex
X-PUBLISHED-TTL:PT1H
BEGIN:VTIMEZONE
TZID:America/Indiana/Indianapolis
BEGIN:DAYLIGHT
TZOFFSETFROM:-0500
TZOFFSETTO:-0400
TZNAME:EDT
DTSTART:20230312T070000
END:DAYLIGHT
BEGIN:STANDARD
TZOFFSETFROM:-0400
TZOFFSETTO:-0500
TZNAME:EST
DTSTART:20231105T060000
END:STANDARD
BEGIN:DAYLIGHT
TZOFFSETFROM:-0500
TZOFFSETTO:-0400
TZNAME:EDT
DTSTART:20240310T070000
END:DAYLIGHT
BEGIN:STANDARD
TZOFFSETFROM:-0400
TZOFFSETTO:-0500
TZNAME:EST
DTSTART:20241103T060000
END:STANDARD
BEGIN:DAYLIGHT
TZOFFSETFROM:-0500
TZOFFSETTO:-0400
TZNAME:EDT
DTSTART:20250309T070000
END:DAYLIGHT
BEGIN:STANDARD
TZOFFSETFROM:-0400
TZOFFSETTO:-0500
TZNAME:EST
DTSTART:20251102T060000
END:STANDARD
BEGIN:DAYLIGHT
TZOFFSETFROM:-0500
TZOFFSETTO:-0400
TZNAME:EDT
DTSTART:20260308T070000
END:DAYLIGHT
BEGIN:STANDARD
TZOFFSETFROM:-0400
TZOFFSETTO:-0500
TZNAME:EST
DTSTART:20261101T060000
END:STANDARD
BEGIN:DAYLIGHT
TZOFFSETFROM:-0500
TZOFFSETTO:-0400
TZNAME:EDT
DTSTART:20270314T070000
END:DAYLIGHT
BEGIN:STANDARD
TZOFFSETFROM:-0400
TZOFFSETTO:-0500
TZNAME:EST
DTSTART:20271107T060000
END:STANDARD
END:VTIMEZONE
BEGIN:VEVENT
DTSTART;TZID=America/Indiana/Indianapolis:20260411T080000
DTEND;TZID=America/Indiana/Indianapolis:20260412T170000
DTSTAMP:20260421T064248
CREATED:20260330T215352Z
LAST-MODIFIED:20260330T220044Z
UID:3521-1775894400-1776013200@ifaaarchery.org
SUMMARY:Indoor 3D State Championship
DESCRIPTION:Indoor 3D State Championship\nThe Clubhouse Archery\n13109 W CR 700 N\nGaston\, IN 47342\nThe 2026 Indoor 3D State Championship will take place on April 11 & 12 at the Clubhouse in Gaston. \nThe indoor 3D events are club-run events. Please contact club or shop to secure your time. Preference on the line is given to those who attended the qualifier events through the season. \nCall the Clubhouse at 765-358-3405
URL:https://ifaaarchery.org/event/indoor-3d-state-championship-2/
LOCATION:The Club House Archery\, 13109 W Co Rd 700 N\, Gaston\, IN\, 47342\, United States
CATEGORIES:Tournament
ATTACH;FMTTYPE=image/jpeg:https://ifaaarchery.org/wp-content/uploads/2023/01/indoor-3d.jpg
END:VEVENT
BEGIN:VEVENT
DTSTART;TZID=America/Indiana/Indianapolis:20260214T080000
DTEND;TZID=America/Indiana/Indianapolis:20260215T170000
DTSTAMP:20260421T064248
CREATED:20251031T154313Z
LAST-MODIFIED:20251031T154313Z
UID:3331-1771056000-1771174800@ifaaarchery.org
SUMMARY:2026 Indoor State Championship
DESCRIPTION:Our 2026 Indoor State Championship will once again be held in Richmond. The event will take place on February 14 & 15\, 2026. \nRegistration information will be coming soon. Please watch our event page for more details to come.
URL:https://ifaaarchery.org/event/2026-indoor-state-championship/
LOCATION:First Bank Expo Hall\, 861 Salisbury Road North\, Richmond\, Indiana\, 47374\, United States
CATEGORIES:Tournament
ATTACH;FMTTYPE=image/png:https://ifaaarchery.org/wp-content/uploads/2021/06/cropped-IFAA-Logo-2.png
ORGANIZER;CN="Kyle Van Meter":MAILTO:kylebstate83@gmail.com 
END:VEVENT
BEGIN:VEVENT
DTSTART;VALUE=DATE:20251205
DTEND;VALUE=DATE:20251208
DTSTAMP:20260421T064248
CREATED:20211031T170201Z
LAST-MODIFIED:20251212T194052Z
UID:547-1764892800-1765151999@ifaaarchery.org
SUMMARY:Hoosier 690 Pro/Am
DESCRIPTION:The 7th Hoosier 690 event at Roundtripper Sports in Westfield was held on December 6 & 7\, 2025\n  \nWe would like to thank all of our sponsors\, workers\, and participants for making the 2025 event such a huge success! We had record turnout\, with over 375 archers participating\, and paid out over $16\,000 in prize money! Thank you especially to the Hamilton County Sports Authority for their contribution to our success!\nMark your calendars for December 4-6\, 2026 when our event returns once again to Roundtripper in Westfield!\n			\n			\n				\n				\n				\n				\n			\n				\n				\n				\n				\n				\n				\n				2025 Final Results with Payouts!\n			\n				Team Shoot Results\n			\n			\n				\n				\n				\n				\n			\n				\n				\n				\n				\n				\n				\n				Promotional Flyer\n			\n				All the Details\n			\n				2025 Sponsorship Info\n			\n			\n				\n				\n				\n				\n			\n				\n				\n			\n				\n				\n				\n				\n				\n				\n				\n				\n				\n				\n				\n				\n			\n			\n				\n				\n			\n				\n				\n				\n				\n				\n				\n				\n				\n				\n				\n				\n				\n				\n				\n				\n				\n				\n				New for 2025!\nNew this year\, we are offering custom trophies for the champions of the Pro Classes\, and all other classes with at least 10 participants. The trophy will be etched with the winner’s name and class and shipped after the tournament. These beautiful glass awards are made right here in Indiana\, at the Kokomo Opalescent Glass Company.  \n			\n			\n				\n				\n				\n				\n			\n				\n				\n			\n				\n				\n				\n				\n				\n				\n				\n				\n				\n				\n				\n				\n				\n				\n				\n				\n				\n				Thank you to our sponsors!\n			\n			\n				\n				\n				\n				\n			\n				\n				\n				\n				\n				\n				\n				\n				\n				\n				\n				\n			\n				\n				\n				\n				\n				\n			\n				\n				\n				\n				\n				\n			\n				\n				\n				\n				\n				\n			\n				\n				\n				\n				\n				\n			\n				\n				\n				\n				\n				\n			\n			\n				\n				\n				\n				\n			\n				\n				\n			\n				\n				\n				\n				\n				\n				\n				\n				\n				\n				\n				\n				\n				\n				\n				\n				\n				\n				\n\n\nDecember 6-7\, 2025 \nRoundtripper Sports Academy\nsee below for event venue information \nThe Hoosier 690 attracts novice to professional archers from across the USA. This event is hosted by the IFAA & sanctioned by the NFAA. The weekend competition includes the NFAA (5 spot 360) Saturday & Vegas (Vegas 330) round Sunday. \n\n\nWe are pleased to announce we are offering live scoring via Rcherz again this year!\n\n\n			\n				Sponsorship & Vendor Booth Info\n			\n				How to create an Rcherz account\n			\n				How to register for the tournament\n			\n			\n				\n				\n				\n				\n			\n				\n				\n				\n				\n				\n				\n				\n				\n				\n				\n				 \n \nOpen Pro Division \n\n\n\n$200 Entry Fee (plus online registration fees)\nPayout bonus info coming soon!\n75% of entry goes to division purse\, paid according to NFAA purse schedule\nNo pro card required\, but if you have a pro card\, you MUST register in this division\n\n\n\n			\n			\n				\n				\n				\n				\n				\n				\n				\n				\n				\n				 \n \nAmateur Money Division \n\n$100 Entry Fee (plus online registration fees)\nClass and payout info coming soon!\n50% of entry fees go to division purse\, paid according to NFAA purse table\nSelect “Champion” classes when registering in rcherz\n\n \n			\n			\n				\n				\n				\n				\n			\n				\n				\n				\n				\n				\n				\n				\n				\n				\n				\n				Trophy Division \n\n\n\n$50 Registration (plus online registration fees)\nOnly 1 flight\nAll NFAA classes and age groups available\n\n\n\n			\n			\n				\n				\n				\n				\n				\n				\n				\n				\n				\n				Pro/Am Team Event \n\nTBD\n\n			\n			\n				\n				\n				\n				\n			\n				\n				\n				\n				\n				\n				\n				\n				\n				\n				\n				\n\nInformation\n\n\n\nPractice will be available Friday & Saturday evenings and on a limited basis during the event.\nUnlimited weekend practice pass is available when registering for $21.00.\nLimited bow storage will be available during event.\nRegistration is required; online registration open NOW via Rcherz\nRegister early to secure your preferred line time!\nWalk-in registrations will be accepted only for the Saturday 7:30am line.\n\n\n\nHotel Information:\n\n\n\nThank you to Springhill Suites by Marriott in Westfield for your support! The property is less than 5 miles from the venue\, and they have offered us a very competitive rate on a limited number of rooms.\n\nThe group rate is now expired.\n\n\n  \n\n\n\n\n\n			\n				\n				\n				\n				\n				\n			\n				\n				\n				\n				\n				Springhill Suites by Marriott\, Westfield \n19317 Westmore Ln \nWestfield\, IN 46074 \n317-763-2088 \n**The Group Rate is now EXPIRED ** \n			\n				Answers to some FAQ's\n			\n			\n				\n				\n				\n				\n			\n				\n				\n				\n				\n				\n				\n			\n				\n				\n				\n				\n				\n				Shooting Classes\n			\n				Tournament Rules\n			\n			\n				\n				\n				\n				\n				\n			\n				\n				\n				\n				\n			\n				\n				\n				\n				\n				\n				\n				\n				\n				\n				\n				Cancellation Deadline: November 30\, 2025 \nCancellation Policy: All registrations are subject to a $10.00 cancellation fee. All cancellation requests must be received before 11:59pm November 30\, 2025. There will be a $25 late fee for registrations received from November 24\, 2025 through 11:59pm November 30\, 2025. Cancellations after November 30\, 2025 will forfeit registration fee without any exceptions! No Refunds will be issued for inclement weather during the advertised days of the event. Emergency cancellation refund will be at the discretion of IFAA board of Directors. \n			\n			\n				\n				\n				\n				\n			\n				\n				\n				\n				\n				\n				\n				\n				\n				\n				\n				\n			\n			\n				\n				\n				\n				\n			\n				\n				\n			\n				\n				\n				\n				\n				\n				\n				\n				\n				\n				\n				\n				\n				\n				\n				\n				\n				\n				Past Results:\n(More Available upon request)\n\n			\n			\n				\n				\n				\n				\n			\n				\n				\n				\n				\n				\n				\n				December 2025 Results\n			\n				December 2024 Results\n			\n				December 2023 Results\n			\n				December 2022 Results\n			\n				January 2022 Results
URL:https://ifaaarchery.org/event/hoosier-pro-am-690/
LOCATION:Roundtripper Sports Academy\, 16708 Southpark Drive\, Westfield\, IN\, 46704\, United States
CATEGORIES:Tournament
ATTACH;FMTTYPE=image/jpeg:https://ifaaarchery.org/wp-content/uploads/2021/10/Hoosier-690-logo.jpg
END:VEVENT
BEGIN:VEVENT
DTSTART;TZID=America/Indiana/Indianapolis:20240817T080000
DTEND;TZID=America/Indiana/Indianapolis:20240818T150000
DTSTAMP:20260421T064248
CREATED:20220126T052912Z
LAST-MODIFIED:20240724T201158Z
UID:1163-1723881600-1723993200@ifaaarchery.org
SUMMARY:Outdoor State - Jay County - 2-day event
DESCRIPTION:August 17 & 18 for the Outdoor State at Jay County\, registration 8-8:45 EST\, shot gun start 9:00 EST \nThis is a 2-day event! All archers will shoot both days. \nDistrict attendance is not required. We are waiving the district fee for this year’s tournament. \nYou may register in person. \nRegister by clicking the Jotform link below. \nAdult: $35.00  ~  Child (under 18): $15.00  ~  Family: $50.00 max \n\n28 Field targets on Saturday\n14 Hunter targets and 14 Animal targets on Sunday\n\n\nField round will be shot on Saturday beginning at 9:00am and must be off the range by 3:00pm.\nHunter/Animal round will be shot on Sunday beginning at 9:00am and must be off the range by 2:30pm.\n\nThe modern bowhunter class will be recognized for state championship awards\, but not for state records. \nRegistration\n 
URL:https://ifaaarchery.org/event/outdoor-state-pine-hill-2-day-event/
LOCATION:Jay Co Bitterridge Bowmen\, 6243 S 325 W\, Portland\, IN\, 47373\, United States
CATEGORIES:Tournament
ORGANIZER;CN="Kyle Van Meter":MAILTO:kylebstate83@gmail.com 
END:VEVENT
BEGIN:VEVENT
DTSTART;TZID=America/Indiana/Indianapolis:20240630T080000
DTEND;TZID=America/Indiana/Indianapolis:20240630T150000
DTSTAMP:20260421T064248
CREATED:20220126T052205Z
LAST-MODIFIED:20240512T181014Z
UID:1159-1719734400-1719759600@ifaaarchery.org
SUMMARY:Indiana Classic 600 - Iroquois
DESCRIPTION:Indiana Classic 600 at Iroquois on June 30\, 2024\nRegistration 8-8:45am EST\, start 9:00am EST  \nPreregistration will be available in April. \nAdult: $35.00  ~  Child (under 18): $15.00  ~  Family: max $50.00 \nTournament Format: \nThe Indiana Classic follows the shooting rules for the NFAA Classic 600 Round \n\n4 ends of 5 arrows at each of 3 distances\, beginning with the closest distance\nAdult & Young Adults classes shoot 40\, 50\, then 60 yards\nYouth\, Traditional and Barebow Recurve classes shoot 30\, 40\, then 50 yards\nCub classes shoot 10\, 20\, then 30 yards\nArchers shoot at the 92cm multi-color target face with scoring X-10-9-8-7-6-5-4-3-2-1 (X used as tie breaker only)\nAt tournament official’s discretion\, some classes will be shooting at the center rings only\, with scoring X-10-9-8-7-6\n\n  \n2024 Indiana Classic Registration\n 
URL:https://ifaaarchery.org/event/indiana-classic-600-koteewi/
LOCATION:Iroquois Archery Club\, 3200 W 900 S\, Rensselaer\, IN\, 47978\, United States
CATEGORIES:Tournament
END:VEVENT
END:VCALENDAR